BEGIN:VCALENDAR
VERSION:2.0
PRODID:-//wp-events-plugin.com//7.2.3.1//EN
TZID:America/Detroit
X-WR-TIMEZONE:America/Detroit
BEGIN:VEVENT
UID:349@remnantchristian.org
DTSTART;TZID=America/Detroit:20260821T190000
DTEND;TZID=America/Detroit:20260821T213000
DTSTAMP:20240916T145741Z
URL:https://www.remnantchristian.org/events/bible-study-and-discussion-202
 6-08-21/
SUMMARY:Bible Study and Discussion
DESCRIPTION:
CATEGORIES:Bible Study &amp; Discussion
LOCATION:Remnant Christian Assembly\, 20800 Southfield Rd.\, Southfield\, M
 I\, 48075\, United States
X-APPLE-STRUCTURED-LOCATION;VALUE=URI;X-ADDRESS=20800 Southfield Rd.\, Sout
 hfield\, MI\, 48075\, United States;X-APPLE-RADIUS=100;X-TITLE=Remnant Chr
 istian Assembly:geo:0,0
END:VEVENT
BEGIN:VTIMEZONE
TZID:America/Detroit
X-LIC-LOCATION:America/Detroit
BEGIN:DAYLIGHT
DTSTART:20260308T030000
TZOFFSETFROM:-0500
TZOFFSETTO:-0400
TZNAME:EDT
END:DAYLIGHT
END:VTIMEZONE
END:VCALENDAR